BEGIN:VCALENDAR
VERSION:2.0
PRODID:-//Commercial Hotel Redbank - ECPv6.15.20//NONSGML v1.0//EN
CALSCALE:GREGORIAN
METHOD:PUBLISH
X-WR-CALNAME:Commercial Hotel Redbank
X-ORIGINAL-URL:https://commercialhotelredbank.com.au
X-WR-CALDESC:Events for Commercial Hotel Redbank
REFRESH-INTERVAL;VALUE=DURATION:PT1H
X-Robots-Tag:noindex
X-PUBLISHED-TTL:PT1H
BEGIN:VTIMEZONE
TZID:UTC
BEGIN:STANDARD
TZOFFSETFROM:+0000
TZOFFSETTO:+0000
TZNAME:UTC
DTSTART:20240101T000000
END:STANDARD
END:VTIMEZONE
BEGIN:VEVENT
DTSTART;TZID=UTC:20250426T183000
DTEND;TZID=UTC:20250426T213000
DTSTAMP:20260419T151715
CREATED:20250428T003749Z
LAST-MODIFIED:20250527T061039Z
UID:1646-1745692200-1745703000@commercialhotelredbank.com.au
SUMMARY:Live Music
DESCRIPTION:
URL:https://commercialhotelredbank.com.au/event-single/live-music/
CATEGORIES:What's On
ATTACH;FMTTYPE=image/jpeg:https://commercialhotelredbank.com.au/wp-content/uploads/2025/04/1149_70603_MULTI_70906_LiveMusic_Web.jpg
END:VEVENT
BEGIN:VEVENT
DTSTART;VALUE=DATE:20250626
DTEND;VALUE=DATE:20250627
DTSTAMP:20260419T151715
CREATED:20250626T010345Z
LAST-MODIFIED:20250626T010424Z
UID:1693-1750896000-1750982399@commercialhotelredbank.com.au
SUMMARY:HOME OF THE UFC
DESCRIPTION:
URL:https://commercialhotelredbank.com.au/event-single/home-of-the-ufc/
CATEGORIES:What's On
ATTACH;FMTTYPE=image/jpeg:https://commercialhotelredbank.com.au/wp-content/uploads/2025/06/72084_PLASMALANDSCAPE_72385_UFCvenue_1920x1080_proof2.jpg
END:VEVENT
BEGIN:VEVENT
DTSTART;VALUE=DATE:20250626
DTEND;VALUE=DATE:20250627
DTSTAMP:20260419T151715
CREATED:20250626T010345Z
LAST-MODIFIED:20250626T010424Z
UID:1693-1750896000-1750982399@commercialhotelredbank.com.au
SUMMARY:HOME OF THE UFC
DESCRIPTION:
URL:https://commercialhotelredbank.com.au/event-single/home-of-the-ufc/
CATEGORIES:What's On
ATTACH;FMTTYPE=image/jpeg:https://commercialhotelredbank.com.au/wp-content/uploads/2025/06/72084_PLASMALANDSCAPE_72385_UFCvenue_1920x1080_proof2.jpg
END:VEVENT
BEGIN:VEVENT
DTSTART;TZID=UTC:20250426T183000
DTEND;TZID=UTC:20250426T213000
DTSTAMP:20260419T151715
CREATED:20250428T003749Z
LAST-MODIFIED:20250527T061039Z
UID:1646-1745692200-1745703000@commercialhotelredbank.com.au
SUMMARY:Live Music
DESCRIPTION:
URL:https://commercialhotelredbank.com.au/event-single/live-music/
CATEGORIES:What's On
ATTACH;FMTTYPE=image/jpeg:https://commercialhotelredbank.com.au/wp-content/uploads/2025/04/1149_70603_MULTI_70906_LiveMusic_Web.jpg
END:VEVENT
BEGIN:VEVENT
DTSTART;TZID=UTC:20250426T183000
DTEND;TZID=UTC:20250426T213000
DTSTAMP:20260419T151715
CREATED:20250428T003749Z
LAST-MODIFIED:20250527T061039Z
UID:1646-1745692200-1745703000@commercialhotelredbank.com.au
SUMMARY:Live Music
DESCRIPTION:
URL:https://commercialhotelredbank.com.au/event-single/live-music/
CATEGORIES:What's On
ATTACH;FMTTYPE=image/jpeg:https://commercialhotelredbank.com.au/wp-content/uploads/2025/04/1149_70603_MULTI_70906_LiveMusic_Web.jpg
END:VEVENT
BEGIN:VEVENT
DTSTART;VALUE=DATE:20250626
DTEND;VALUE=DATE:20250627
DTSTAMP:20260419T151715
CREATED:20250626T010345Z
LAST-MODIFIED:20250626T010424Z
UID:1693-1750896000-1750982399@commercialhotelredbank.com.au
SUMMARY:HOME OF THE UFC
DESCRIPTION:
URL:https://commercialhotelredbank.com.au/event-single/home-of-the-ufc/
CATEGORIES:What's On
ATTACH;FMTTYPE=image/jpeg:https://commercialhotelredbank.com.au/wp-content/uploads/2025/06/72084_PLASMALANDSCAPE_72385_UFCvenue_1920x1080_proof2.jpg
END:VEVENT
BEGIN:VEVENT
DTSTART;VALUE=DATE:20250626
DTEND;VALUE=DATE:20250627
DTSTAMP:20260419T151715
CREATED:20250626T010345Z
LAST-MODIFIED:20250626T010424Z
UID:1693-1750896000-1750982399@commercialhotelredbank.com.au
SUMMARY:HOME OF THE UFC
DESCRIPTION:
URL:https://commercialhotelredbank.com.au/event-single/home-of-the-ufc/
CATEGORIES:What's On
ATTACH;FMTTYPE=image/jpeg:https://commercialhotelredbank.com.au/wp-content/uploads/2025/06/72084_PLASMALANDSCAPE_72385_UFCvenue_1920x1080_proof2.jpg
END:VEVENT
BEGIN:VEVENT
DTSTART;TZID=UTC:20250426T183000
DTEND;TZID=UTC:20250426T213000
DTSTAMP:20260419T151715
CREATED:20250428T003749Z
LAST-MODIFIED:20250527T061039Z
UID:1646-1745692200-1745703000@commercialhotelredbank.com.au
SUMMARY:Live Music
DESCRIPTION:
URL:https://commercialhotelredbank.com.au/event-single/live-music/
CATEGORIES:What's On
ATTACH;FMTTYPE=image/jpeg:https://commercialhotelredbank.com.au/wp-content/uploads/2025/04/1149_70603_MULTI_70906_LiveMusic_Web.jpg
END:VEVENT
BEGIN:VEVENT
DTSTART;TZID=UTC:20250426T183000
DTEND;TZID=UTC:20250426T213000
DTSTAMP:20260419T151715
CREATED:20250428T003749Z
LAST-MODIFIED:20250527T061039Z
UID:1646-1745692200-1745703000@commercialhotelredbank.com.au
SUMMARY:Live Music
DESCRIPTION:
URL:https://commercialhotelredbank.com.au/event-single/live-music/
CATEGORIES:What's On
ATTACH;FMTTYPE=image/jpeg:https://commercialhotelredbank.com.au/wp-content/uploads/2025/04/1149_70603_MULTI_70906_LiveMusic_Web.jpg
END:VEVENT
BEGIN:VEVENT
DTSTART;VALUE=DATE:20250626
DTEND;VALUE=DATE:20250627
DTSTAMP:20260419T151715
CREATED:20250626T010345Z
LAST-MODIFIED:20250626T010424Z
UID:1693-1750896000-1750982399@commercialhotelredbank.com.au
SUMMARY:HOME OF THE UFC
DESCRIPTION:
URL:https://commercialhotelredbank.com.au/event-single/home-of-the-ufc/
CATEGORIES:What's On
ATTACH;FMTTYPE=image/jpeg:https://commercialhotelredbank.com.au/wp-content/uploads/2025/06/72084_PLASMALANDSCAPE_72385_UFCvenue_1920x1080_proof2.jpg
END:VEVENT
BEGIN:VEVENT
DTSTART;VALUE=DATE:20250626
DTEND;VALUE=DATE:20250627
DTSTAMP:20260419T151715
CREATED:20250626T010345Z
LAST-MODIFIED:20250626T010424Z
UID:1693-1750896000-1750982399@commercialhotelredbank.com.au
SUMMARY:HOME OF THE UFC
DESCRIPTION:
URL:https://commercialhotelredbank.com.au/event-single/home-of-the-ufc/
CATEGORIES:What's On
ATTACH;FMTTYPE=image/jpeg:https://commercialhotelredbank.com.au/wp-content/uploads/2025/06/72084_PLASMALANDSCAPE_72385_UFCvenue_1920x1080_proof2.jpg
END:VEVENT
BEGIN:VEVENT
DTSTART;TZID=UTC:20250426T183000
DTEND;TZID=UTC:20250426T213000
DTSTAMP:20260419T151715
CREATED:20250428T003749Z
LAST-MODIFIED:20250527T061039Z
UID:1646-1745692200-1745703000@commercialhotelredbank.com.au
SUMMARY:Live Music
DESCRIPTION:
URL:https://commercialhotelredbank.com.au/event-single/live-music/
CATEGORIES:What's On
ATTACH;FMTTYPE=image/jpeg:https://commercialhotelredbank.com.au/wp-content/uploads/2025/04/1149_70603_MULTI_70906_LiveMusic_Web.jpg
END:VEVENT
BEGIN:VEVENT
DTSTART;TZID=UTC:20250426T183000
DTEND;TZID=UTC:20250426T213000
DTSTAMP:20260419T151715
CREATED:20250428T003749Z
LAST-MODIFIED:20250527T061039Z
UID:1646-1745692200-1745703000@commercialhotelredbank.com.au
SUMMARY:Live Music
DESCRIPTION:
URL:https://commercialhotelredbank.com.au/event-single/live-music/
CATEGORIES:What's On
ATTACH;FMTTYPE=image/jpeg:https://commercialhotelredbank.com.au/wp-content/uploads/2025/04/1149_70603_MULTI_70906_LiveMusic_Web.jpg
END:VEVENT
BEGIN:VEVENT
DTSTART;VALUE=DATE:20250626
DTEND;VALUE=DATE:20250627
DTSTAMP:20260419T151715
CREATED:20250626T010345Z
LAST-MODIFIED:20250626T010424Z
UID:1693-1750896000-1750982399@commercialhotelredbank.com.au
SUMMARY:HOME OF THE UFC
DESCRIPTION:
URL:https://commercialhotelredbank.com.au/event-single/home-of-the-ufc/
CATEGORIES:What's On
ATTACH;FMTTYPE=image/jpeg:https://commercialhotelredbank.com.au/wp-content/uploads/2025/06/72084_PLASMALANDSCAPE_72385_UFCvenue_1920x1080_proof2.jpg
END:VEVENT
BEGIN:VEVENT
DTSTART;VALUE=DATE:20250626
DTEND;VALUE=DATE:20250627
DTSTAMP:20260419T151715
CREATED:20250626T010345Z
LAST-MODIFIED:20250626T010424Z
UID:1693-1750896000-1750982399@commercialhotelredbank.com.au
SUMMARY:HOME OF THE UFC
DESCRIPTION:
URL:https://commercialhotelredbank.com.au/event-single/home-of-the-ufc/
CATEGORIES:What's On
ATTACH;FMTTYPE=image/jpeg:https://commercialhotelredbank.com.au/wp-content/uploads/2025/06/72084_PLASMALANDSCAPE_72385_UFCvenue_1920x1080_proof2.jpg
END:VEVENT
BEGIN:VEVENT
DTSTART;TZID=UTC:20250426T183000
DTEND;TZID=UTC:20250426T213000
DTSTAMP:20260419T151715
CREATED:20250428T003749Z
LAST-MODIFIED:20250527T061039Z
UID:1646-1745692200-1745703000@commercialhotelredbank.com.au
SUMMARY:Live Music
DESCRIPTION:
URL:https://commercialhotelredbank.com.au/event-single/live-music/
CATEGORIES:What's On
ATTACH;FMTTYPE=image/jpeg:https://commercialhotelredbank.com.au/wp-content/uploads/2025/04/1149_70603_MULTI_70906_LiveMusic_Web.jpg
END:VEVENT
BEGIN:VEVENT
DTSTART;TZID=UTC:20250426T183000
DTEND;TZID=UTC:20250426T213000
DTSTAMP:20260419T151715
CREATED:20250428T003749Z
LAST-MODIFIED:20250527T061039Z
UID:1646-1745692200-1745703000@commercialhotelredbank.com.au
SUMMARY:Live Music
DESCRIPTION:
URL:https://commercialhotelredbank.com.au/event-single/live-music/
CATEGORIES:What's On
ATTACH;FMTTYPE=image/jpeg:https://commercialhotelredbank.com.au/wp-content/uploads/2025/04/1149_70603_MULTI_70906_LiveMusic_Web.jpg
END:VEVENT
BEGIN:VEVENT
DTSTART;VALUE=DATE:20250626
DTEND;VALUE=DATE:20250627
DTSTAMP:20260419T151715
CREATED:20250626T010345Z
LAST-MODIFIED:20250626T010424Z
UID:1693-1750896000-1750982399@commercialhotelredbank.com.au
SUMMARY:HOME OF THE UFC
DESCRIPTION:
URL:https://commercialhotelredbank.com.au/event-single/home-of-the-ufc/
CATEGORIES:What's On
ATTACH;FMTTYPE=image/jpeg:https://commercialhotelredbank.com.au/wp-content/uploads/2025/06/72084_PLASMALANDSCAPE_72385_UFCvenue_1920x1080_proof2.jpg
END:VEVENT
BEGIN:VEVENT
DTSTART;VALUE=DATE:20250626
DTEND;VALUE=DATE:20250627
DTSTAMP:20260419T151715
CREATED:20250626T010345Z
LAST-MODIFIED:20250626T010424Z
UID:1693-1750896000-1750982399@commercialhotelredbank.com.au
SUMMARY:HOME OF THE UFC
DESCRIPTION:
URL:https://commercialhotelredbank.com.au/event-single/home-of-the-ufc/
CATEGORIES:What's On
ATTACH;FMTTYPE=image/jpeg:https://commercialhotelredbank.com.au/wp-content/uploads/2025/06/72084_PLASMALANDSCAPE_72385_UFCvenue_1920x1080_proof2.jpg
END:VEVENT
BEGIN:VEVENT
DTSTART;TZID=UTC:20250426T183000
DTEND;TZID=UTC:20250426T213000
DTSTAMP:20260419T151715
CREATED:20250428T003749Z
LAST-MODIFIED:20250527T061039Z
UID:1646-1745692200-1745703000@commercialhotelredbank.com.au
SUMMARY:Live Music
DESCRIPTION:
URL:https://commercialhotelredbank.com.au/event-single/live-music/
CATEGORIES:What's On
ATTACH;FMTTYPE=image/jpeg:https://commercialhotelredbank.com.au/wp-content/uploads/2025/04/1149_70603_MULTI_70906_LiveMusic_Web.jpg
END:VEVENT
BEGIN:VEVENT
DTSTART;TZID=UTC:20250426T183000
DTEND;TZID=UTC:20250426T213000
DTSTAMP:20260419T151715
CREATED:20250428T003749Z
LAST-MODIFIED:20250527T061039Z
UID:1646-1745692200-1745703000@commercialhotelredbank.com.au
SUMMARY:Live Music
DESCRIPTION:
URL:https://commercialhotelredbank.com.au/event-single/live-music/
CATEGORIES:What's On
ATTACH;FMTTYPE=image/jpeg:https://commercialhotelredbank.com.au/wp-content/uploads/2025/04/1149_70603_MULTI_70906_LiveMusic_Web.jpg
END:VEVENT
BEGIN:VEVENT
DTSTART;VALUE=DATE:20250626
DTEND;VALUE=DATE:20250627
DTSTAMP:20260419T151715
CREATED:20250626T010345Z
LAST-MODIFIED:20250626T010424Z
UID:1693-1750896000-1750982399@commercialhotelredbank.com.au
SUMMARY:HOME OF THE UFC
DESCRIPTION:
URL:https://commercialhotelredbank.com.au/event-single/home-of-the-ufc/
CATEGORIES:What's On
ATTACH;FMTTYPE=image/jpeg:https://commercialhotelredbank.com.au/wp-content/uploads/2025/06/72084_PLASMALANDSCAPE_72385_UFCvenue_1920x1080_proof2.jpg
END:VEVENT
BEGIN:VEVENT
DTSTART;VALUE=DATE:20250626
DTEND;VALUE=DATE:20250627
DTSTAMP:20260419T151715
CREATED:20250626T010345Z
LAST-MODIFIED:20250626T010424Z
UID:1693-1750896000-1750982399@commercialhotelredbank.com.au
SUMMARY:HOME OF THE UFC
DESCRIPTION:
URL:https://commercialhotelredbank.com.au/event-single/home-of-the-ufc/
CATEGORIES:What's On
ATTACH;FMTTYPE=image/jpeg:https://commercialhotelredbank.com.au/wp-content/uploads/2025/06/72084_PLASMALANDSCAPE_72385_UFCvenue_1920x1080_proof2.jpg
END:VEVENT
BEGIN:VEVENT
DTSTART;TZID=UTC:20250426T183000
DTEND;TZID=UTC:20250426T213000
DTSTAMP:20260419T151715
CREATED:20250428T003749Z
LAST-MODIFIED:20250527T061039Z
UID:1646-1745692200-1745703000@commercialhotelredbank.com.au
SUMMARY:Live Music
DESCRIPTION:
URL:https://commercialhotelredbank.com.au/event-single/live-music/
CATEGORIES:What's On
ATTACH;FMTTYPE=image/jpeg:https://commercialhotelredbank.com.au/wp-content/uploads/2025/04/1149_70603_MULTI_70906_LiveMusic_Web.jpg
END:VEVENT
BEGIN:VEVENT
DTSTART;TZID=UTC:20260308T120000
DTEND;TZID=UTC:20260308T160000
DTSTAMP:20260419T151715
CREATED:20260217T222229Z
LAST-MODIFIED:20260217T222229Z
UID:1847-1772971200-1772985600@commercialhotelredbank.com.au
SUMMARY:UFC 326 BMF
DESCRIPTION:UFC 326 is headlining the BMF title to see once again who is the baddest fighter on the plant. \nCharles Oliveira vs Max Holloway is one fight you do not want to miss! \nCatch the action Live & Loud at Commercial Hotel
URL:https://commercialhotelredbank.com.au/event-single/ufc-326-bmf/
CATEGORIES:What's On
ATTACH;FMTTYPE=image/jpeg:https://commercialhotelredbank.com.au/wp-content/uploads/2026/02/267_20260216094041_UFC326_Venue_1920x10801.jpg
END:VEVENT
BEGIN:VEVENT
DTSTART;TZID=UTC:20250426T183000
DTEND;TZID=UTC:20250426T213000
DTSTAMP:20260419T151715
CREATED:20250428T003749Z
LAST-MODIFIED:20250527T061039Z
UID:1646-1745692200-1745703000@commercialhotelredbank.com.au
SUMMARY:Live Music
DESCRIPTION:
URL:https://commercialhotelredbank.com.au/event-single/live-music/
CATEGORIES:What's On
ATTACH;FMTTYPE=image/jpeg:https://commercialhotelredbank.com.au/wp-content/uploads/2025/04/1149_70603_MULTI_70906_LiveMusic_Web.jpg
END:VEVENT
BEGIN:VEVENT
DTSTART;VALUE=DATE:20250626
DTEND;VALUE=DATE:20250627
DTSTAMP:20260419T151715
CREATED:20250626T010345Z
LAST-MODIFIED:20250626T010424Z
UID:1693-1750896000-1750982399@commercialhotelredbank.com.au
SUMMARY:HOME OF THE UFC
DESCRIPTION:
URL:https://commercialhotelredbank.com.au/event-single/home-of-the-ufc/
CATEGORIES:What's On
ATTACH;FMTTYPE=image/jpeg:https://commercialhotelredbank.com.au/wp-content/uploads/2025/06/72084_PLASMALANDSCAPE_72385_UFCvenue_1920x1080_proof2.jpg
END:VEVENT
BEGIN:VEVENT
DTSTART;VALUE=DATE:20250626
DTEND;VALUE=DATE:20250627
DTSTAMP:20260419T151715
CREATED:20250626T010345Z
LAST-MODIFIED:20250626T010424Z
UID:1693-1750896000-1750982399@commercialhotelredbank.com.au
SUMMARY:HOME OF THE UFC
DESCRIPTION:
URL:https://commercialhotelredbank.com.au/event-single/home-of-the-ufc/
CATEGORIES:What's On
ATTACH;FMTTYPE=image/jpeg:https://commercialhotelredbank.com.au/wp-content/uploads/2025/06/72084_PLASMALANDSCAPE_72385_UFCvenue_1920x1080_proof2.jpg
END:VEVENT
BEGIN:VEVENT
DTSTART;TZID=UTC:20250426T183000
DTEND;TZID=UTC:20250426T213000
DTSTAMP:20260419T151715
CREATED:20250428T003749Z
LAST-MODIFIED:20250527T061039Z
UID:1646-1745692200-1745703000@commercialhotelredbank.com.au
SUMMARY:Live Music
DESCRIPTION:
URL:https://commercialhotelredbank.com.au/event-single/live-music/
CATEGORIES:What's On
ATTACH;FMTTYPE=image/jpeg:https://commercialhotelredbank.com.au/wp-content/uploads/2025/04/1149_70603_MULTI_70906_LiveMusic_Web.jpg
END:VEVENT
BEGIN:VEVENT
DTSTART;TZID=UTC:20260301T080000
DTEND;TZID=UTC:20260301T233000
DTSTAMP:20260419T151715
CREATED:20260224T023245Z
LAST-MODIFIED:20260224T023245Z
UID:1854-1772352000-1772407800@commercialhotelredbank.com.au
SUMMARY:FOOTY TIPPING 2026
DESCRIPTION:NRL season is back and that means FOOTY TIPPING season is as well at Commercial Hotel! \nSign up before March 1 in venue! \nGuaranteed Cash prizes and additional points for the perfect round.
URL:https://commercialhotelredbank.com.au/event-single/footy-tipping-2026/
CATEGORIES:What's On
ATTACH;FMTTYPE=image/jpeg:https://commercialhotelredbank.com.au/wp-content/uploads/2026/02/74427_74724_FootyTipping_1920x1080.jpg
END:VEVENT
END:VCALENDAR