BEGIN:VCALENDAR
VERSION:2.0
PRODID:-//Commercial Hotel Redbank - ECPv6.15.20//NONSGML v1.0//EN
CALSCALE:GREGORIAN
METHOD:PUBLISH
X-ORIGINAL-URL:https://commercialhotelredbank.com.au
X-WR-CALDESC:Events for Commercial Hotel Redbank
REFRESH-INTERVAL;VALUE=DURATION:PT1H
X-Robots-Tag:noindex
X-PUBLISHED-TTL:PT1H
BEGIN:VTIMEZONE
TZID:UTC
BEGIN:STANDARD
TZOFFSETFROM:+0000
TZOFFSETTO:+0000
TZNAME:UTC
DTSTART:20240101T000000
END:STANDARD
END:VTIMEZONE
BEGIN:VEVENT
DTSTART;TZID=UTC:20250426T183000
DTEND;TZID=UTC:20250426T213000
DTSTAMP:20260421T084930
CREATED:20250428T003749Z
LAST-MODIFIED:20250527T061039Z
UID:1646-1745692200-1745703000@commercialhotelredbank.com.au
SUMMARY:Live Music
DESCRIPTION:
URL:https://commercialhotelredbank.com.au/event-single/live-music/
CATEGORIES:What's On
ATTACH;FMTTYPE=image/jpeg:https://commercialhotelredbank.com.au/wp-content/uploads/2025/04/1149_70603_MULTI_70906_LiveMusic_Web.jpg
END:VEVENT
BEGIN:VEVENT
DTSTART;TZID=UTC:20250426T183000
DTEND;TZID=UTC:20250426T213000
DTSTAMP:20260421T084930
CREATED:20250428T003749Z
LAST-MODIFIED:20250527T061039Z
UID:1646-1745692200-1745703000@commercialhotelredbank.com.au
SUMMARY:Live Music
DESCRIPTION:
URL:https://commercialhotelredbank.com.au/event-single/live-music/
CATEGORIES:What's On
ATTACH;FMTTYPE=image/jpeg:https://commercialhotelredbank.com.au/wp-content/uploads/2025/04/1149_70603_MULTI_70906_LiveMusic_Web.jpg
END:VEVENT
END:VCALENDAR